Workbook

Sheet SUMMARY
A1: Annexure - I
A2: Format of holding of specified securities
A3: 1. | B3: Name of Listed Entity: | J3: KRISHNA VENTURES LIMITED
A4: 2. | B4: Scrip Code/Name of Scrip/Class of Security
A5: 3. | B5: Share Holding Pattern Filed under: Reg. 31(1)(a)/Reg. 31(1)(b)/Reg.31(1)(c) | J5: Reg.31(1)( b)
B6: a. | C6: If under 31(1)(b) then indicate the report for Quarter ending | J6: 30/09/2026
B7: b. | C7: If under 31(1)(c) then indicate date of allotment/extinguishment
A8: 4. | B8: Declaration: The Listed entity is required to submit the following declaration to the extent of submission of information:-
C10: Particulars | J10: Yes/No | K10: Promoter & Promoter Group | L10: Public Shareholder | M10: Non Promoter -Non Public
B11: 1. | C11: Whether the Listed Entity has issued any partly paid up shares? | J11: No | K11: No | L11: No | M11: No
B12: 2. | C12: Whether the Listed Entity has issued any Convertible Securities ? | J12: No | K12: No | L12: No | M12: No
B13: 3. | C13: Whether the Listed Entity has issued any Warrants ? | J13: No | K13: No | L13: No | M13: No
B14: 4. | C14: Whether Listed Etity has granted ESOPs,which are outstanding? | J14: No | K14: No | L14: No
B15: 5 | C15: Whether the Listed Entity has any shares against which depository receipts are issued? | J15: No | K15: No | L15: No
B16: 6 | C16: Whether the Listed Entity has any shares in locked-in? | J16: No | K16: No
B17: 7 | C17: Whether any shares held by promoters are encumbered under "Pledged" ? | J17: No | K17: No
B18: 8 | C18: Whether any Shares held by promoters are encumbered under "Non-Disposal Undertaking" ? | J18: No | K18: No
B19: 9 | C19: Whether any shares held by promoters are encumbered, other than by way of Pledge or NDU, if Any ? | J19: No | K19: No
B20: 10 | C20: Whether company has equity shares with differential voting rights ? | J20: No | K20: No | L20: No | M20: No
B21: 11 | C21: Whether the listed entity has any significant beneficial owner ? | J21: No
B22: * If the Listed Entity selects the option ‘No’ for the questions above, the columns for the partly paid up shares, Outstanding Convertible Securities/Warrants, depository receipts, locked-in shares, No of shares pledged or otherwise encumbered by promoters, as applicable, shall not be displayed at the time of dissemination on the Stock Exchange website. Also wherever there is ‘No’ declared by Listed Entity in above table the values will be considered as ‘Zero’ by default on submission of the format of holding of specified securities.
A24: 5. | B24: The tabular format for disclosure of holding of specified securities is as follows:-

Sheet Table I
A1: Table I - Summary Statement holding of specified securities
A2: Category | B2: Category of shareholder | C2: Nos. of shareh olders | D2: No. of fully paid up equity shares held | E2: No. of Partly paid-up equity shares held | F2: No. of shares underlying Depository Receipts | G2: Total nos. shares held | H2: Shareholding as a % of total no. of shares (calculated as per SCRR, 1957) As a % of (A+B+C2) | I2: Number of Voting Rights held in each class of securities | M2: No. Of Shares Underlying Outstanding convertible securities | N2: No. of Shares Underlying Outstanding Warrants | O2: No. Of Outstanding ESOP Granted | P2: No. of Shares Underlying Outstanding convertible securities (including Warrants ESOP etc) | Q2: Total No of shareson fully diluted basis (including warrants ESOP, convertible securities etc. | R2: Shareholding , as a % assuming full conversion of convertible securities ( as a percentage of diluted share capital) As a % of (A+B+C2) | S2: Number of Locked in shares | U2: Number of Shares pledged or otherwise encumbered | W2: Non-Disposal Undertaking | Y2: Other encumbrances, if any | AA2: Total Number of shares encumbered | AC2: Number of equity shares held in dematerialized form
I3: No of Voting Rights | L3: Total as a % of (A+B+C) | S3: No. (a) | T3: As a % of total Shares held (b) | U3: No. (a) | V3: As a % of total Shares held (b) | W3: No. (a) | X3: As a % of total Shares held (b) | Y3: No. (a) | Z3: As a % of total Shares held (b) | AA3: No. (a) | AB3: As a % of total Shares held (b)
I4: Class:Equity | J4: Classeg:y | K4: Total
A5: (I) | B5: (II) | C5: (III) | D5: (IV) | E5: (V) | F5: (VI) | G5: (VII)=(IV)+(V)+ (VI) | H5: (VIII) | I5: (IX) | P5: (X) | Q5: (XI)=(VII)+(X) | R5: (XII)= (VII)+(X) | S5: (XIII) | U5: (XIV) | W5: (XV) | Y5: (XVI) | AA5: (XVII)=(XIV+XV+XVI) | AC5: (XVIII)
A6: (A) | B6: Promoter & Promoter Group | C6: 4 | D6: 6280724 | E6: 0 | G6: =SUM(D6:F6) -> 6280724 | H6: =(G6/(G11-G9))*100 -> 58.154852 | I6: 6280724 | K6: =(I6+J6) -> 6280724 | L6: =(K6/K11)*100 -> 58.154852 | M6: 0 | N6: 0 | O6: 0 | P6: 0 | Q6: =(G6+P6) -> 6280724 | R6: =(Q6-G9)/(Q11)*100 -> 58.154852 | S6: 0 | U6: 0 | W6: 0 | Y6: 0 | AA6: =(U6+W6+Y6) -> 0 | AC6: 6280724
A7: (B) | B7: Public | C7: 2920 | D7: 4519276 | E7: 0 | G7: =SUM(D7:F7) -> 4519276 | H7: =(G7/(G11-G9))*100 -> 41.845148 | I7: 4519276 | K7: =(I7+J7) -> 4519276 | L7: =(K7/K11)*100 -> 41.845148 | M7: 0 | N7: 0 | O7: 0 | P7: 0 | Q7: =(G7+P7) -> 4519276 | R7: =(Q7-G9)/(Q11)*100 -> 41.845148 | S7: 0 | U7: 35456 | V7: =(U7/(G7))*100 -> 0.78455045 | W7: 0 | Y7: 0 | AA7: 0 | AB7: 0 | AC7: 4484776
A8: (C) | B8: Non Promoter- Non Public | G8: =SUM(D8:F8) -> 0
A9: (C1) | B9: Shares underlying DRs | C9: 0 | F9: 0 | G9: =SUM(D9:F9) -> 0 | I9: 0 | K9: =(I9+J9) -> 0 | L9: =(K9/K11)*100 -> 0 | M9: 0 | N9: 0 | S9: 0 | U9: 0 | W9: 0 | Y9: 0 | AA9: 0 | AB9: 0 | AC9: 0
A10: (C2) | B10: Shares held by Employee Trusts | C10: 0 | D10: 0 | E10: 0 | G10: =SUM(D10:F10) -> 0 | H10: =(G10/(G11-G9))*100 -> 0 | I10: 0 | K10: =(I10+J10) -> 0 | L10: =(K10/K11)*100 -> 0 | M10: 0 | N10: 0 | O10: 0 | P10: 0 | Q10: =(G10+P10) -> 0 | R10: =(Q10-G9)/(Q11)*100 -> 0 | S10: 0 | U10: 0 | W10: 0 | Y10: 0 | AA10: 0 | AB10: 0 | AC10: 0
B11: Total | C11: =SUM(C6:C10) -> 2924 | D11: =SUM(D6:D10) -> 10800000 | E11: =SUM(E6:E10) -> 0 | F11: =SUM(F6:F10) -> 0 | G11: =SUM(G6:G10) -> 10800000 | H11: =SUM(H6:H10) -> 100 | I11: =SUM(I6:I10) -> 10800000 | J11: =SUM(J6:J10) -> 0 | ... AC11: =SUM(AC6:AC10) -> 10765500

Sheet Table II
A1: Table II - Statement showing shareholding pattern of the Promoter and Promoter Group
C2: Category & Name of the Shareholders | D2: Entity type i.e. promoter OR promoter group entity (except promotor) | E2: PAN | F2: No. of shareholder | G2: No. of fully paid up equity shares held | H2: Partly paid-up equity shares held | I2: Nos. of shares underlying Depository Receipts | J2: Total nos. shares held | K2: Shareholding % calculated as per SCRR, 1957 As a % of (A+B+C2) | L2: Number of Voting Rights held in each class of securities | P2: No. Of Shares Underlying Outstanding convertible securities | Q2: No. of Shares Underlying Outstanding Warrants | R2: No. Of Outstanding ESOP Granted | S2: No. of Shares Underlying Outstanding convertible securities (including Warrants, ESOP etc) | T2: Total No of shares on fully diluted basis (including warrants,ESOP, convertible securities etc) | U2: Total Shareholding , as a % assuming full conversion of convertible securities (as a percentage of diluted share capital) as a % of A+B+C2 | V2: Number of Locked in shares | X2: Number of Shares pledged or otherwise encumbered | Z2: Non Disposal Undertakin | AB2: Other encumbrances if any | AD2: Total Number of shares encumbered | AF2: Number of equity shares held in dematerializ ed form
L3: No of Voting Rights | O3: Total as a % of Total Voting rights | V3: No. (a) | W3: As a % of total Shares held (b) | X3: No. (a) | Y3: As a % of total share s held (b) | Z3: No. (a) | AA3: As a % of total share s held (b) | AB3: No. (a) | AC3: As a % of total share s held (b) | AD3: No. (a) | AE3: As a % of total share s held (b)
L4: Class X | M4: Class Y | N4: Total
C5: (I) | D5: (II) | E5: (III) | F5: (IV) | G5: (V) | H5: (VI) | I5: (VII) | J5: (VIII)=(V)+(VI)+(VII) | K5: (IX) | L5: (X) | S5: (XI) | T5: (XII)= (VIII)+(XI) | U5: (XIII)= (VIII)+(XI) | V5: (XIV) | X5: (XV) | Z5: (XVI) | AB5: (XVII) | AD5: (XVIII) | AF5: (XIX)
A6: 1 | C6: Indian
B7: (a) | C7: Individual/Hindu Undivided Family | F7: 2 | G7: =SUM(G8:G9) -> 3503125 | H7: =SUM(H8:H9) -> 0 | I7: =SUM(I8:I9) -> 0 | J7: =G7+H7+I7 -> 3503125 | K7: =(J7/('Table I'!G11-'Table I'!G9)*100) -> 32.436343 | L7: =SUM(L8:L9) -> 3503125 | M7: =SUM(M8:M9) -> 0 | N7: =L7+M7 -> 3503125 | O7: =(N7)/'Table I'!K11*100 -> 32.436343 | P7: =SUM(P8:P9) -> 0 | Q7: =SUM(Q8:Q9) -> 0 | R7: =SUM(R8:R9) -> 0 | S7: =SUM(S8:S9) -> 0 | T7: =J7+S7 -> 3503125 | U7: =T7*100/'Table I'!$Q$11 -> 32.436343 | V7: =SUM(V8:V9) -> 0 | W7: 0 | X7: =SUM(X8:X9) -> 0 | Y7: 0 | Z7: =SUM(Z8:Z9) -> 0 | AA7: =SUM(AA8:AA9) -> 0 | AB7: 0 | AC7: 0 | AD7: =X7+Z7+AB7 -> 0 | AE7: 0 | AF7: =SUM(AF8:AF9) -> 3503125
C8: NEERAJ GUPTA | D8: Promotor | E8: AFOPG5298R | G8: 3364320 | H8: 0 | J8: =G8+H8+I8 -> 3364320 | K8: =(J8/('Table I'!G11-'Table I'!G9)*100) -> 31.151111 | L8: 3364320 | N8: =L8+M8 -> 3364320 | O8: =(N8)/'Table I'!K11*100 -> 31.151111 | S8: 0 | T8: =J8+S8 -> 3364320 | U8: =T8*100/'Table I'!$Q$11 -> 31.151111 | V8: 0 | W8: 0 | X8: 0 | Y8: 0 | Z8: 0 | AB8: 0 | AC8: 0 | AD8: =X8+Z8+AB8 -> 0 | AE8: 0 | AF8: 3364320
C9: GAURAV JINDAL | D9: Promotor | E9: AHAPJ2335A | G9: 138805 | H9: 0 | J9: =G9+H9+I9 -> 138805 | K9: =(J9/('Table I'!G11-'Table I'!G9)*100) -> 1.2852315 | L9: 138805 | N9: =L9+M9 -> 138805 | O9: =(N9)/'Table I'!K11*100 -> 1.2852315 | S9: 0 | T9: =J9+S9 -> 138805 | U9: =T9*100/'Table I'!$Q$11 -> 1.2852315 | V9: 0 | W9: 0 | X9: 0 | Y9: 0 | Z9: 0 | AB9: 0 | AC9: 0 | AD9: =X9+Z9+AB9 -> 0 | AE9: 0 | AF9: 138805
B10: (b) | C10: Central Government/State Government(s) | F10: 0 | G10: 0 | H10: 0 | I10: 0 | J10: =G10+H10+I10 -> 0 | K10: =(J10/('Table I'!G11-'Table I'!G9)*100) -> 0 | L10: 0 | M10: 0 | N10: =L10+M10 -> 0 | O10: =(N10)/'Table I'!K11*100 -> 0 | P10: 0 | Q10: 0 | R10: 0 | S10: 0 | T10: =J10+S10 -> 0 | U10: =T10*100/'Table I'!$Q$11 -> 0 | V10: 0 | W10: 0 | X10: 0 | Y10: 0 | Z10: 0 | AA10: 0 | AB10: 0 | AC10: 0 | AD10: =X10+Z10+AB10 -> 0 | AE10: 0 | AF10: 0
B11: (c) | C11: Financial Institutions/Banks | F11: 0 | G11: 0 | H11: 0 | I11: 0 | J11: =G11+H11+I11 -> 0 | K11: =(J11/('Table I'!G11-'Table I'!G9)*100) -> 0 | L11: 0 | M11: 0 | N11: =L11+M11 -> 0 | O11: =(N11)/'Table I'!K11*100 -> 0 | P11: 0 | Q11: 0 | R11: 0 | S11: 0 | T11: =J11+S11 -> 0 | U11: =T11*100/'Table I'!$Q$11 -> 0 | V11: 0 | W11: 0 | X11: 0 | Y11: 0 | Z11: 0 | AA11: 0 | AB11: 0 | AC11: 0 | AD11: =X11+Z11+AB11 -> 0 | AE11: 0 | AF11: 0
B12: (d) | C12: Any Other (Specify) | F12: 2 | G12: =SUM(G13:G14) -> 2777599 | H12: =SUM(H13:H14) -> 0 | I12: =SUM(I13:I14) -> 0 | J12: =G12+H12+I12 -> 2777599 | K12: =(J12/('Table I'!G11-'Table I'!G9)*100) -> 25.718509 | L12: =SUM(L13:L14) -> 2777599 | M12: =SUM(M13:M14) -> 0 | N12: =L12+M12 -> 2777599 | O12: =(N12)/'Table I'!K11*100 -> 25.718509 | P12: =SUM(P13:P14) -> 0 | Q12: =SUM(Q13:Q14) -> 0 | R12: =SUM(R13:R14) -> 0 | S12: =SUM(S13:S14) -> 0 | T12: =J12+S12 -> 2777599 | U12: =T12*100/'Table I'!$Q$11 -> 25.718509 | V12: =SUM(V13:V14) -> 0 | W12: 0 | X12: =SUM(X13:X14) -> 0 | Y12: 0 | Z12: =SUM(Z13:Z14) -> 0 | AA12: =SUM(AA13:AA14) -> 0 | AB12: 0 | AC12: 0 | AD12: =X12+Z12+AB12 -> 0 | AE12: 0 | AF12: =SUM(AF13:AF14) -> 2777599
C13: FRESHPLATE AGRO FOODS PRIVATE LIMITED | E13: AADCF3614M | G13: 1556750 | H13: 0 | J13: =G13+H13+I13 -> 1556750 | K13: =(J13/('Table I'!G11-'Table I'!G9)*100) -> 14.414352 | L13: 1556750 | N13: =L13+M13 -> 1556750 | O13: =(N13)/'Table I'!K11*100 -> 14.414352 | S13: 0 | T13: =J13+S13 -> 1556750 | U13: =T13*100/'Table I'!$Q$11 -> 14.414352 | V13: 0 | W13: 0 | X13: 0 | Y13: 0 | Z13: 0 | AB13: 0 | AC13: 0 | AD13: =X13+Z13+AB13 -> 0 | AE13: 0 | AF13: 1556750
C14: ASHVA ENERGY PRIVATE LIMITED | E14: AANCA5227F | G14: 1220849 | H14: 0 | J14: =G14+H14+I14 -> 1220849 | K14: =(J14/('Table I'!G11-'Table I'!G9)*100) -> 11.304157 | L14: 1220849 | N14: =L14+M14 -> 1220849 | O14: =(N14)/'Table I'!K11*100 -> 11.304157 | S14: 0 | T14: =J14+S14 -> 1220849 | U14: =T14*100/'Table I'!$Q$11 -> 11.304157 | V14: 0 | W14: 0 | X14: 0 | Y14: 0 | Z14: 0 | AB14: 0 | AC14: 0 | AD14: =X14+Z14+AB14 -> 0 | AE14: 0 | AF14: 1220849
C15: Sub Total (A)(1) | F15: 4 | G15: =G7+G10+G11+G12 -> 6280724 | H15: =H7+H10+H11+H12 -> 0 | I15: =I7+I10+I11+I12 -> 0 | J15: =G15+H15+I15 -> 6280724 | K15: =(J15/('Table I'!G11-'Table I'!G9)*100) -> 58.154852 | L15: =L7+L10+L11+L12 -> 6280724 | M15: =M7+M10+M11+M12 -> 0 | N15: =L15+M15 -> 6280724 | O15: =(N15)/'Table I'!K11*100 -> 58.154852 | P15: =P7+P10+P11+P12 -> 0 | Q15: =Q7+Q10+Q11+Q12 -> 0 | R15: =R7+R10+R11+R12 -> 0 | S15: =S7+S10+S11+S12 -> 0 | T15: =J15+S15 -> 6280724 | U15: =T15*100/'Table I'!$Q$11 -> 58.154852 | V15: =V7+V10+V11+V12 -> 0 | W15: 0 | X15: =X7+X10+X11+X12 -> 0 | Y15: 0 | Z15: =Z7+Z10+Z11+Z12 -> 0 | AA15: =AA7+AA10+AA11+AA12 -> 0 | AB15: 0 | AC15: 0 | AD15: =X15+Z15+AB15 -> 0 | AE15: 0 | AF15: =AF7+AF10+AF11+AF12 -> 6280724
A16: 2 | C16: Foreign | J16: =G16+H16+I16 -> 0 | K16: =(J16/('Table I'!G11-'Table I'!G9)*100) -> 0 | N16: =L16+M16 -> 0 | O16: =(N16)/'Table I'!K11*100 -> 0 | T16: =J16+S16 -> 0 | U16: =T16*100/'Table I'!$Q$11 -> 0 | W16: 0 | Y16: 0 | AD16: =X16+Z16+AB16 -> 0
B17: (a) | C17: Individual/Non Resident Individual/Foreign Individual | F17: 0 | G17: 0 | H17: 0 | I17: 0 | J17: =G17+H17+I17 -> 0 | K17: =(J17/('Table I'!G11-'Table I'!G9)*100) -> 0 | L17: 0 | M17: 0 | N17: =L17+M17 -> 0 | O17: =(N17)/'Table I'!K11*100 -> 0 | P17: 0 | Q17: 0 | R17: 0 | S17: 0 | T17: =J17+S17 -> 0 | U17: =T17*100/'Table I'!$Q$11 -> 0 | V17: 0 | W17: 0 | X17: 0 | Y17: 0 | Z17: 0 | AA17: 0 | AB17: 0 | AC17: 0 | AD17: =X17+Z17+AB17 -> 0 | AE17: 0 | AF17: 0
B18: (b) | C18: Government | F18: 0 | G18: 0 | H18: 0 | I18: 0 | J18: =G18+H18+I18 -> 0 | K18: =(J18/('Table I'!G11-'Table I'!G9)*100) -> 0 | L18: 0 | M18: 0 | N18: =L18+M18 -> 0 | O18: =(N18)/'Table I'!K11*100 -> 0 | P18: 0 | Q18: 0 | R18: 0 | S18: 0 | T18: =J18+S18 -> 0 | U18: =T18*100/'Table I'!$Q$11 -> 0 | V18: 0 | W18: 0 | X18: 0 | Y18: 0 | Z18: 0 | AA18: 0 | AB18: 0 | AC18: 0 | AD18: =X18+Z18+AB18 -> 0 | AE18: 0 | AF18: 0
B19: (c) | C19: Institutions | F19: 0 | G19: 0 | H19: 0 | I19: 0 | J19: =G19+H19+I19 -> 0 | K19: =(J19/('Table I'!G11-'Table I'!G9)*100) -> 0 | L19: 0 | M19: 0 | N19: =L19+M19 -> 0 | O19: =(N19)/'Table I'!K11*100 -> 0 | P19: 0 | Q19: 0 | R19: 0 | S19: 0 | T19: =J19+S19 -> 0 | U19: =T19*100/'Table I'!$Q$11 -> 0 | V19: 0 | W19: 0 | X19: 0 | Y19: 0 | Z19: 0 | AA19: 0 | AB19: 0 | AC19: 0 | AD19: =X19+Z19+AB19 -> 0 | AE19: 0 | AF19: 0
B20: (d) | C20: Foreign Portfolio Investor | F20: 0 | G20: 0 | H20: 0 | I20: 0 | J20: =G20+H20+I20 -> 0 | K20: =(J20/('Table I'!G11-'Table I'!G9)*100) -> 0 | L20: 0 | M20: 0 | N20: =L20+M20 -> 0 | O20: =(N20)/'Table I'!K11*100 -> 0 | P20: 0 | Q20: 0 | R20: 0 | S20: 0 | T20: =J20+S20 -> 0 | U20: =T20*100/'Table I'!$Q$11 -> 0 | V20: 0 | W20: 0 | X20: 0 | Y20: 0 | Z20: 0 | AA20: 0 | AB20: 0 | AC20: 0 | AD20: =X20+Z20+AB20 -> 0 | AE20: 0 | AF20: 0
B21: (e) | C21: Any Other (Specify) | F21: 0 | G21: 0 | H21: 0 | I21: 0 | J21: =G21+H21+I21 -> 0 | K21: =(J21/('Table I'!G11-'Table I'!G9)*100) -> 0 | L21: 0 | M21: 0 | N21: =L21+M21 -> 0 | O21: =(N21)/'Table I'!K11*100 -> 0 | P21: 0 | Q21: 0 | R21: 0 | S21: 0 | T21: =J21+S21 -> 0 | U21: =T21*100/'Table I'!$Q$11 -> 0 | V21: 0 | W21: 0 | X21: 0 | Y21: 0 | Z21: 0 | AA21: 0 | AB21: 0 | AC21: 0 | AD21: =X21+Z21+AB21 -> 0 | AE21: 0 | AF21: 0
C22: Sub Total (A)(2) | F22: 0 | G22: =+G17+G18+G19+G20+G21 -> 0 | H22: =+H17+H18+H19+H20+H21 -> 0 | I22: =+I17+I18+I19+I20+I21 -> 0 | J22: =G22+H22+I22 -> 0 | K22: =(J22/('Table I'!G11-'Table I'!G9)*100) -> 0 | L22: =+L17+L18+L19+L20+L21 -> 0 | M22: =+M17+M18+M19+M20+M21 -> 0 | N22: =L22+M22 -> 0 | O22: =(N22)/'Table I'!K11*100 -> 0 | P22: =+P17+P18+P19+P20+P21 -> 0 | Q22: =+Q17+Q18+Q19+Q20+Q21 -> 0 | R22: =+R17+R18+R19+R20+R21 -> 0 | S22: =+S17+S18+S19+S20+S21 -> 0 | T22: =J22+S22 -> 0 | U22: =T22*100/'Table I'!$Q$11 -> 0 | V22: =+V17+V18+V19+V20+V21 -> 0 | W22: 0 | X22: =+X17+X18+X19+X20+X21 -> 0 | Y22: 0 | Z22: =+Z17+Z18+Z19+Z20+Z21 -> 0 | AA22: =+AA17+AA18+AA19+AA20+AA21 -> 0 | AB22: =+AB17+AB18+AB19+AB20+AB21 -> 0 | AC22: =+AC17+AC18+AC19+AC20+AC21 -> 0 | AD22: =X22+Z22+AB22 -> 0 | AE22: =+AE17+AE18+AE19+AE20+AE21 -> 0 | AF22: =+AF17+AF18+AF19+AF20+AF21 -> 0
C23: Total Shareholding of Promoter and Promoter Group (A)= (A)(1)+(A)(2) | F23: 4 | G23: =G15+G22 -> 6280724 | H23: =H15+H22 -> 0 | I23: =I15+I22 -> 0 | J23: =J15+J22 -> 6280724 | K23: =K15+K22 -> 58.154852 | L23: =L15+L22 -> 6280724 | M23: =M15+M22 -> 0 | N23: =N15+N22 -> 6280724 | ... AF23: =AF15+AF22 -> 6280724

Sheet Table III
A1: Table III - Statement showing shareholding pattern of the Public shareholder
C2: Category & Name of the Shareholders | D2: PAN | E2: Nos. of shareh older | F2: No. of fully paid up equity shares held | G2: Partly paid-up equity shares held | H2: Nos. of shares underlying Depository Receipts | I2: Total nos. shares held | J2: Sharehol ding % calculate d as per SCRR, 1957 As a % of (A+B+C2) | K2: Number of Voting Rights held in each class of securities | O2: No. Of Shares Underlying Outstanding convertible securities | P2: No. of Shares Underlying Outstanding Warrants | Q2: No. Of Outstanding ESOP Granted | R2: No. of Shares Underlying Outstanding convertible securities (including Warrants, ESOP etc) | S2: Total No of shares on fully diluted basis (including warrants, ESOP convertible securities etc. | T2: Total shareholding, as a % assuming full conversion of convertible securities (as a percentage of diluted share capital) | U2: Number of Locked in shares | W2: Number of Shares pledged or otherwise encumbered | Y2: Non-Disposal Undertaking | AA2: Other encumbrances, if any | AC2: Total Number of Shares encumbered | AE2: Number of equity shares held in dematerializ ed form | AF2: Sub-categorization of shares (XIX)
K3: No of Voting Rights | N3: Total as a % of Total Voting rights | U3: No. (a) | V3: As a % of total Shar es held (b) | W3: No. (Not applicable) (a) | X3: As a % of total shares held (Not applic able) (b) | Y3: No. (Not applicable) (a) | Z3: As a % of total shares held (Not applic able) (b) | AA3: No. (Not applicable) (a) | AB3: As a % of total shares held (Not applic able) (b) | AC3: No. (Not applicable) (a) | AD3: As a % of total shares held (Not applic able) (b) | AF3: Shareholding (No. of shares) under
K4: Class X | L4: Class Y | M4: Total | AF4: Sub_x0002_category (i) | AG4: Sub_x0002_category (ii) | AH4: ub_x0002_category (iii)
C5: (I) | D5: (II) | E5: (III) | F5: (IV) | G5: (V) | H5: (VI) | I5: (VII)=(IV)+(V)+(VI) | J5: (VIII) | K5: (IX) | R5: (X) | S5: (XI)=(VII)+(X) | T5: (XII) | U5: (XIII) | W5: (XIV) | Y5: (XV) | AA5: (XVI) | AC5: (XVII)=(XIV)+(XV)+(XVI) | AE5: (XVIII)
A6: 1 | C6: Institutions Domestic
B7: (a) | C7: Mutual Fund | E7: 0 | F7: 0 | G7: 0 | I7: =F7+G7+H7 -> 0 | J7: =(I7/('Table I'!G11-'Table I'!G9)*100) -> 0 | K7: 0 | M7: =K7+L7 -> 0 | N7: =(M7)/'Table I'!K11*100 -> 0 | S7: =SUM(I7+R7) -> 0 | T7: =S7*100/'Table I'!$Q$11 -> 0 | U7: 0 | V7: 0 | X7: 0 | Y7: 0 | Z7: 0 | AA7: 0 | AB7: 0 | AC7: =SUM(W7+Y7+AA7) -> 0 | AD7: 0 | AE7: 0
B8: (b) | C8: Venture Capital Funds | E8: 0 | F8: 0 | G8: 0 | I8: =F8+G8+H8 -> 0 | J8: =(I8/('Table I'!G11-'Table I'!G9)*100) -> 0 | K8: 0 | M8: =K8+L8 -> 0 | N8: =(M8)/'Table I'!K11*100 -> 0 | R8: 0 | S8: =SUM(I8+R8) -> 0 | T8: =S8*100/'Table I'!$Q$11 -> 0 | U8: 0 | V8: 0 | X8: 0 | Y8: 0 | Z8: 0 | AA8: 0 | AB8: 0 | AC8: =SUM(W8+Y8+AA8) -> 0 | AD8: 0 | AE8: 0
B9: (c) | C9: Alternate Investment Funds | E9: 0 | F9: 0 | G9: 0 | I9: =F9+G9+H9 -> 0 | J9: =(I9/('Table I'!G11-'Table I'!G9)*100) -> 0 | K9: 0 | M9: =K9+L9 -> 0 | N9: =(M9)/'Table I'!K11*100 -> 0 | R9: 0 | S9: =SUM(I9+R9) -> 0 | T9: =S9*100/'Table I'!$Q$11 -> 0 | U9: 0 | V9: 0 | X9: 0 | Y9: 0 | Z9: 0 | AA9: 0 | AB9: 0 | AC9: =SUM(W9+Y9+AA9) -> 0 | AD9: 0 | AE9: 0
B10: (d) | C10: Banks | E10: 0 | F10: 0 | G10: 0 | I10: =F10+G10+H10 -> 0 | J10: =(I10/('Table I'!G11-'Table I'!G9)*100) -> 0 | K10: 0 | M10: =K10+L10 -> 0 | N10: =(M10)/'Table I'!K11*100 -> 0 | R10: 0 | S10: =SUM(I10+R10) -> 0 | T10: =S10*100/'Table I'!$Q$11 -> 0 | U10: 0 | V10: 0 | X10: 0 | Y10: 0 | Z10: 0 | AA10: 0 | AB10: 0 | AC10: =SUM(W10+Y10+AA10) -> 0 | AD10: 0 | AE10: 0
B11: (e) | C11: Insurance Companies | E11: 0 | F11: 0 | G11: 0 | I11: =F11+G11+H11 -> 0 | J11: =(I11/('Table I'!G11-'Table I'!G9)*100) -> 0 | K11: 0 | M11: =K11+L11 -> 0 | N11: =(M11)/'Table I'!K11*100 -> 0 | R11: 0 | S11: =SUM(I11+R11) -> 0 | T11: =S11*100/'Table I'!$Q$11 -> 0 | U11: 0 | V11: 0 | X11: 0 | Y11: 0 | Z11: 0 | AA11: 0 | AB11: 0 | AC11: =SUM(W11+Y11+AA11) -> 0 | AD11: 0 | AE11: 0
B12: (f) | C12: Provident Fund/Pension Fund | E12: 0 | F12: 0 | G12: 0 | I12: =F12+G12+H12 -> 0 | J12: =(I12/('Table I'!G11-'Table I'!G9)*100) -> 0 | K12: 0 | M12: =K12+L12 -> 0 | N12: =(M12)/'Table I'!K11*100 -> 0 | R12: 0 | S12: =SUM(I12+R12) -> 0 | T12: =S12*100/'Table I'!$Q$11 -> 0 | U12: 0 | V12: 0 | X12: 0 | Y12: 0 | Z12: 0 | AA12: 0 | AB12: 0 | AC12: =SUM(W12+Y12+AA12) -> 0 | AD12: 0 | AE12: 0
B13: (g) | C13: Asset Reconstruction | E13: 0 | F13: 0 | G13: 0 | I13: =F13+G13+H13 -> 0 | J13: =(I13/('Table I'!G11-'Table I'!G9)*100) -> 0 | K13: 0 | M13: =K13+L13 -> 0 | N13: =(M13)/'Table I'!K11*100 -> 0 | R13: 0 | S13: =SUM(I13+R13) -> 0 | T13: =S13*100/'Table I'!$Q$11 -> 0 | U13: 0 | V13: 0 | X13: 0 | Y13: 0 | Z13: 0 | AA13: 0 | AB13: 0 | AC13: =SUM(W13+Y13+AA13) -> 0 | AD13: 0 | AE13: 0
B14: (h) | C14: Sovereign Wealth Fund | E14: 0 | F14: 0 | G14: 0 | I14: =F14+G14+H14 -> 0 | J14: =(I14/('Table I'!G11-'Table I'!G9)*100) -> 0 | K14: 0 | M14: =K14+L14 -> 0 | N14: =(M14)/'Table I'!K11*100 -> 0 | R14: 0 | S14: =SUM(I14+R14) -> 0 | T14: =S14*100/'Table I'!$Q$11 -> 0 | U14: 0 | V14: 0 | X14: 0 | Y14: 0 | Z14: 0 | AA14: 0 | AB14: 0 | AC14: =SUM(W14+Y14+AA14) -> 0 | AD14: 0 | AE14: 0
B15: (i) | C15: NBFCs Registered with RBI | E15: 0 | F15: 0 | G15: 0 | I15: =F15+G15+H15 -> 0 | J15: =(I15/('Table I'!G11-'Table I'!G9)*100) -> 0 | K15: 0 | M15: =K15+L15 -> 0 | N15: =(M15)/'Table I'!K11*100 -> 0 | R15: 0 | S15: =SUM(I15+R15) -> 0 | T15: =S15*100/'Table I'!$Q$11 -> 0 | U15: 0 | V15: 0 | X15: 0 | Y15: 0 | Z15: 0 | AA15: 0 | AB15: 0 | AC15: =SUM(W15+Y15+AA15) -> 0 | AD15: 0 | AE15: 0
B16: (j) | C16: Other Financial Institutions | E16: 0 | F16: 0 | G16: 0 | I16: =F16+G16+H16 -> 0 | J16: =(I16/('Table I'!G11-'Table I'!G9)*100) -> 0 | K16: 0 | M16: =K16+L16 -> 0 | N16: =(M16)/'Table I'!K11*100 -> 0 | R16: 0 | S16: =SUM(I16+R16) -> 0 | T16: =S16*100/'Table I'!$Q$11 -> 0 | U16: 0 | V16: 0 | X16: 0 | Y16: 0 | Z16: 0 | AA16: 0 | AB16: 0 | AC16: =SUM(W16+Y16+AA16) -> 0 | AD16: 0 | AE16: 0
B17: (k) | C17: Any Other Specify | E17: 0 | F17: 0 | G17: 0 | I17: =F17+G17+H17 -> 0 | J17: =(I17/('Table I'!G11-'Table I'!G9)*100) -> 0 | K17: 0 | M17: =K17+L17 -> 0 | N17: =(M17)/'Table I'!K11*100 -> 0 | R17: 0 | S17: =SUM(I17+R17) -> 0 | T17: =S17*100/'Table I'!$Q$11 -> 0 | U17: 0 | V17: 0 | X17: 0 | Y17: 0 | Z17: 0 | AA17: 0 | AB17: 0 | AC17: =SUM(W17+Y17+AA17) -> 0 | AD17: 0 | AE17: 0
C18: Sub Total (B)(1) | E18: =E7+E8+E9+E10+E11+E12+E13+E14+E15+E16+E17 -> 0 | F18: =F7+F8+F9+F10+F11+F12+F13+F14+F15+F16+F17 -> 0 | G18: =G7+G8+G9+G10+G11+G12+G13+G14+G15+G16+G17 -> 0 | H18: =H7+H8+H9+H10+H11+H12+H13+H14+H15+H16+H17 -> 0 | I18: =F18+G18+H18 -> 0 | J18: =(I18/('Table I'!G11-'Table I'!G9)*100) -> 0 | K18: =K7+K8+K9+K10+K11+K12+K13+K14+K15+K16+K17 -> 0 | L18: =L7+L8+L9+L10+L11+L12+L13+L14+L15+L16+L17 -> 0 | M18: =K18+L18 -> 0 | N18: =(M18)/'Table I'!K11*100 -> 0 | O18: =O7+O8+O9+O10+O11+O12+O13+O14+O15+O16+O17 -> 0 | P18: =P7+P8+P9+P10+P11+P12+P13+P14+P15+P16+P17 -> 0 | Q18: =Q7+Q8+Q9+Q10+Q11+Q12+Q13+Q14+Q15+Q16+Q17 -> 0 | R18: =R7+R8+R9+R10+R11+R12+R13+R14+R15+R16+R17 -> 0 | S18: =SUM(I18+R18) -> 0 | T18: =S18*100/'Table I'!$Q$11 -> 0 | U18: =U7+U8+U9+U10+U11+U12+U13+U14+U15+U16+U17 -> 0 | V18: 0 | W18: =W7+W8+W9+W10+W11+W12+W13+W14+W15+W16+W17 -> 0 | X18: 0 | Y18: =Y7+Y8+Y9+Y10+Y11+Y12+Y13+Y14+Y15+Y16+Y17 -> 0 | Z18: 0 | AA18: =AA7+AA8+AA9+AA10+AA11+AA12+AA13+AA14+AA15+AA16+AA17 -> 0 | AB18: 0 | AC18: =AC7+AC8+AC9+AC10+AC11+AC12+AC13+AC14+AC15+AC16+AC17 -> 0 | AD18: 0 | AE18: =AE7+AE8+AE9+AE10+AE11+AE12+AE13+AE14+AE15+AE16+AE17 -> 0
A19: 2 | C19: Institutions Foreign | I19: =F19+G19+H19 -> 0 | J19: =(I19/('Table I'!G11-'Table I'!G9)*100) -> 0 | M19: =K19+L19 -> 0 | N19: =(M19)/'Table I'!K11*100 -> 0 | S19: =SUM(I19+R19) -> 0 | T19: =S19*100/'Table I'!$Q$11 -> 0 | V19: 0 | X19: 0 | Z19: 0 | AB19: 0 | AD19: 0
B20: (a) | C20: Foreign Direct Investmnet | E20: 0 | F20: 0 | G20: 0 | I20: =F20+G20+H20 -> 0 | J20: =(I20/('Table I'!G11-'Table I'!G9)*100) -> 0 | K20: 0 | M20: =K20+L20 -> 0 | N20: =(M20)/'Table I'!K11*100 -> 0 | R20: 0 | S20: =SUM(I20+R20) -> 0 | T20: =S20*100/'Table I'!$Q$11 -> 0 | U20: 0 | V20: 0 | X20: 0 | Y20: 0 | Z20: 0 | AA20: 0 | AB20: 0 | AC20: =SUM(W20+Y20+AA20) -> 0 | AD20: 0 | AE20: 0
B21: (b) | C21: Foreign Venture Capital Investors | E21: 0 | F21: 0 | G21: 0 | I21: =F21+G21+H21 -> 0 | J21: =(I21/('Table I'!G11-'Table I'!G9)*100) -> 0 | K21: 0 | M21: =K21+L21 -> 0 | N21: =(M21)/'Table I'!K11*100 -> 0 | R21: 0 | S21: =SUM(I21+R21) -> 0 | T21: =S21*100/'Table I'!$Q$11 -> 0 | U21: 0 | V21: 0 | X21: 0 | Y21: 0 | Z21: 0 | AA21: 0 | AB21: 0 | AC21: =SUM(W21+Y21+AA21) -> 0 | AD21: 0 | AE21: 0
B22: (c) | C22: Sovereign Wealth Fund | E22: 0 | F22: 0 | G22: 0 | I22: =F22+G22+H22 -> 0 | J22: =(I22/('Table I'!G11-'Table I'!G9)*100) -> 0 | K22: 0 | M22: =K22+L22 -> 0 | N22: =(M22)/'Table I'!K11*100 -> 0 | R22: 0 | S22: =SUM(I22+R22) -> 0 | T22: =S22*100/'Table I'!$Q$11 -> 0 | U22: 0 | V22: 0 | X22: 0 | Y22: 0 | Z22: 0 | AA22: 0 | AB22: 0 | AC22: =SUM(W22+Y22+AA22) -> 0 | AD22: 0 | AE22: 0
B23: (d) | C23: Foreign Portfolio Investors Category I | E23: 0 | F23: 0 | G23: 0 | I23: =F23+G23+H23 -> 0 | J23: =(I23/('Table I'!G11-'Table I'!G9)*100) -> 0 | K23: 0 | M23: =K23+L23 -> 0 | N23: =(M23)/'Table I'!K11*100 -> 0 | R23: 0 | S23: =SUM(I23+R23) -> 0 | T23: =S23*100/'Table I'!$Q$11 -> 0 | U23: 0 | V23: 0 | X23: 0 | Y23: 0 | Z23: 0 | AA23: 0 | AB23: 0 | AC23: =SUM(W23+Y23+AA23) -> 0 | AD23: 0 | AE23: 0
B24: (e) | C24: Foreign Portfolio Investors Category II | E24: 0 | F24: 0 | G24: 0 | I24: =F24+G24+H24 -> 0 | J24: =(I24/('Table I'!G11-'Table I'!G9)*100) -> 0 | K24: 0 | M24: =K24+L24 -> 0 | N24: =(M24)/'Table I'!K11*100 -> 0 | R24: 0 | S24: =SUM(I24+R24) -> 0 | T24: =S24*100/'Table I'!$Q$11 -> 0 | U24: 0 | V24: 0 | X24: 0 | Y24: 0 | Z24: 0 | AA24: 0 | AB24: 0 | AC24: =SUM(W24+Y24+AA24) -> 0 | AD24: 0 | AE24: 0
B25: (f) | C25: Overseas Depositories (holding DRs) (balancing figure) | E25: 0 | F25: 0 | G25: 0 | I25: =F25+G25+H25 -> 0 | J25: =(I25/('Table I'!G11-'Table I'!G9)*100) -> 0 | K25: 0 | M25: =K25+L25 -> 0 | N25: =(M25)/'Table I'!K11*100 -> 0 | R25: 0 | S25: =SUM(I25+R25) -> 0 | T25: =S25*100/'Table I'!$Q$11 -> 0 | U25: 0 | V25: 0 | X25: 0 | Y25: 0 | Z25: 0 | AA25: 0 | AB25: 0 | AC25: =SUM(W25+Y25+AA25) -> 0 | AD25: 0 | AE25: 0
B26: (g) | C26: Any Other (specify) | E26: 0 | F26: 0 | G26: 0 | I26: =F26+G26+H26 -> 0 | J26: =(I26/('Table I'!G11-'Table I'!G9)*100) -> 0 | K26: 0 | M26: =K26+L26 -> 0 | N26: =(M26)/'Table I'!K11*100 -> 0 | R26: 0 | S26: =SUM(I26+R26) -> 0 | T26: =S26*100/'Table I'!$Q$11 -> 0 | U26: 0 | V26: 0 | X26: 0 | Y26: 0 | Z26: 0 | AA26: 0 | AB26: 0 | AC26: =SUM(W26+Y26+AA26) -> 0 | AD26: 0 | AE26: 0
C27: Sub Total (B)(2) | E27: =+E20+E21+E22+E23+E24+E25+E26 -> 0 | F27: =+F20+F21+F22+F23+F24+F25+F26 -> 0 | G27: =+G20+G21+G22+G23+G24+G25+G26 -> 0 | H27: =+H20+H21+H22+H23+H24+H25+H26 -> 0 | I27: =F27+G27+H27 -> 0 | J27: =(I27/('Table I'!G11-'Table I'!G9)*100) -> 0 | K27: =+K20+K21+K22+K23+K24+K25+K26 -> 0 | L27: =+L20+L21+L22+L23+L24+L25+L26 -> 0 | M27: =K27+L27 -> 0 | N27: =(M27)/'Table I'!K11*100 -> 0 | O27: =+O20+O21+O22+O23+O24+O25+O26 -> 0 | P27: =+P20+P21+P22+P23+P24+P25+P26 -> 0 | Q27: =+Q20+Q21+Q22+Q23+Q24+Q25+Q26 -> 0 | R27: =+R20+R21+R22+R23+R24+R25+R26 -> 0 | S27: =SUM(I27+R27) -> 0 | T27: =S27*100/'Table I'!$Q$11 -> 0 | U27: =+U20+U21+U22+U23+U24+U25+U26 -> 0 | V27: 0 | W27: =+W20+W21+W22+W23+W24+W25+W26 -> 0 | X27: 0 | Y27: =+Y20+Y21+Y22+Y23+Y24+Y25+Y26 -> 0 | Z27: 0 | AA27: =+AA20+AA21+AA22+AA23+AA24+AA25+AA26 -> 0 | AB27: 0 | AC27: =+AC20+AC21+AC22+AC23+AC24+AC25+AC26 -> 0 | AD27: 0 | AE27: =+AE20+AE21+AE22+AE23+AE24+AE25+AE26 -> 0
A28: 3 | C28: Central Government/State Government | I28: =F28+G28+H28 -> 0 | J28: =(I28/('Table I'!G11-'Table I'!G9)*100) -> 0 | M28: =K28+L28 -> 0 | N28: =(M28)/'Table I'!K11*100 -> 0 | S28: =SUM(I28+R28) -> 0 | T28: =S28*100/'Table I'!$Q$11 -> 0 | V28: 0 | X28: 0 | Z28: 0 | AB28: 0 | AD28: 0
B29: a | C29: Central Government/President of India | E29: 0 | F29: 0 | G29: 0 | I29: =F29+G29+H29 -> 0 | J29: =(I29/('Table I'!G11-'Table I'!G9)*100) -> 0 | K29: 0 | M29: =K29+L29 -> 0 | N29: =(M29)/'Table I'!K11*100 -> 0 | R29: 0 | S29: =SUM(I29+R29) -> 0 | T29: =S29*100/'Table I'!$Q$11 -> 0 | U29: 0 | V29: 0 | X29: 0 | Y29: 0 | Z29: 0 | AA29: 0 | AB29: 0 | AC29: =SUM(W29+Y29+AA29) -> 0 | AD29: 0 | AE29: 0
B30: b | C30: State Government/Governor | E30: 0 | F30: 0 | G30: 0 | I30: =F30+G30+H30 -> 0 | J30: =(I30/('Table I'!G11-'Table I'!G9)*100) -> 0 | K30: 0 | M30: =K30+L30 -> 0 | N30: =(M30)/'Table I'!K11*100 -> 0 | R30: 0 | S30: =SUM(I30+R30) -> 0 | T30: =S30*100/'Table I'!$Q$11 -> 0 | U30: 0 | V30: 0 | X30: 0 | Y30: 0 | Z30: 0 | AA30: 0 | AB30: 0 | AC30: =SUM(W30+Y30+AA30) -> 0 | AD30: 0 | AE30: 0
B31: c | C31: State Government/Governor | E31: 0 | F31: 0 | G31: 0 | I31: =F31+G31+H31 -> 0 | J31: =(I31/('Table I'!G11-'Table I'!G9)*100) -> 0 | K31: 0 | M31: =K31+L31 -> 0 | N31: =(M31)/'Table I'!K11*100 -> 0 | R31: 0 | S31: =SUM(I31+R31) -> 0 | T31: =S31*100/'Table I'!$Q$11 -> 0 | U31: 0 | V31: 0 | X31: 0 | Y31: 0 | Z31: 0 | AA31: 0 | AB31: 0 | AC31: =SUM(W31+Y31+AA31) -> 0 | AD31: 0 | AE31: 0
C32: Sub Total (B)(3) | E32: =+E29+E30+E31 -> 0 | F32: =+F29+F30+F31 -> 0 | G32: =+G29+G30+G31 -> 0 | H32: =+H29+H30+H31 -> 0 | I32: =F32+G32+H32 -> 0 | J32: =(I32/('Table I'!G11-'Table I'!G9)*100) -> 0 | K32: =+K29+K30+K31 -> 0 | L32: =+L29+L30+L31 -> 0 | M32: =K32+L32 -> 0 | N32: =(M32)/'Table I'!K11*100 -> 0 | O32: =+O29+O30+O31 -> 0 | P32: =+P29+P30+P31 -> 0 | Q32: =+Q29+Q30+Q31 -> 0 | R32: =+R29+R30+R31 -> 0 | S32: =SUM(I32+R32) -> 0 | T32: =S32*100/'Table I'!$Q$11 -> 0 | U32: =+U29+U30+U31 -> 0 | V32: 0 | W32: =+W29+W30+W31 -> 0 | X32: 0 | Y32: =+Y29+Y30+Y31 -> 0 | Z32: 0 | AA32: =+AA29+AA30+AA31 -> 0 | AB32: 0 | AC32: =+AC29+AC30+AC31 -> 0 | AD32: 0 | AE32: =+AE29+AE30+AE31 -> 0
A33: 4 | C33: Non-Institutions | I33: =F33+G33+H33 -> 0 | J33: =(I33/('Table I'!G11-'Table I'!G9)*100) -> 0 | M33: =K33+L33 -> 0 | N33: =(M33)/'Table I'!K11*100 -> 0 | S33: =SUM(I33+R33) -> 0 | T33: =S33*100/'Table I'!$Q$11 -> 0 | V33: 0 | X33: 0 | Z33: 0 | AB33: 0 | AD33: 0
B34: (a) | C34: Associate companies / Subsidiaries | E34: 0 | F34: 0 | G34: 0 | I34: =F34+G34+H34 -> 0 | J34: =(I34/('Table I'!G11-'Table I'!G9)*100) -> 0 | K34: 0 | M34: =K34+L34 -> 0 | N34: =(M34)/'Table I'!K11*100 -> 0 | R34: 0 | S34: =SUM(I34+R34) -> 0 | T34: =S34*100/'Table I'!$Q$11 -> 0 | U34: 0 | V34: 0 | X34: 0 | Y34: 0 | Z34: 0 | AA34: 0 | AB34: 0 | AC34: =SUM(W34+Y34+AA34) -> 0 | AD34: 0 | AE34: 0
B35: (b) | C35: Directors and their relatives (excluding independent directors and nominee directors) | E35: 0 | F35: 0 | G35: 0 | I35: =F35+G35+H35 -> 0 | J35: =(I35/('Table I'!G11-'Table I'!G9)*100) -> 0 | K35: 0 | M35: =K35+L35 -> 0 | N35: =(M35)/'Table I'!K11*100 -> 0 | R35: 0 | S35: =SUM(I35+R35) -> 0 | T35: =S35*100/'Table I'!$Q$11 -> 0 | U35: 0 | V35: 0 | X35: 0 | Y35: 0 | Z35: 0 | AA35: 0 | AB35: 0 | AC35: =SUM(W35+Y35+AA35) -> 0 | AD35: 0 | AE35: 0
B36: (c) | C36: Key Managerial Personnel | E36: 0 | F36: 0 | G36: 0 | I36: =F36+G36+H36 -> 0 | J36: =(I36/('Table I'!G11-'Table I'!G9)*100) -> 0 | K36: 0 | M36: =K36+L36 -> 0 | N36: =(M36)/'Table I'!K11*100 -> 0 | R36: 0 | S36: =SUM(I36+R36) -> 0 | T36: =S36*100/'Table I'!$Q$11 -> 0 | U36: 0 | V36: 0 | X36: 0 | Y36: 0 | Z36: 0 | AA36: 0 | AB36: 0 | AC36: =SUM(W36+Y36+AA36) -> 0 | AD36: 0 | AE36: 0
B37: (d) | C37: Relatives of promoters (other than `immediate relatives' of promoters disclosed under `Promoter and Promoter Group' category) | E37: 0 | F37: 0 | G37: 0 | I37: =F37+G37+H37 -> 0 | J37: =(I37/('Table I'!G11-'Table I'!G9)*100) -> 0 | K37: 0 | M37: =K37+L37 -> 0 | N37: =(M37)/'Table I'!K11*100 -> 0 | R37: 0 | S37: =SUM(I37+R37) -> 0 | T37: =S37*100/'Table I'!$Q$11 -> 0 | U37: 0 | V37: 0 | X37: 0 | Y37: 0 | Z37: 0 | AA37: 0 | AB37: 0 | AC37: =SUM(W37+Y37+AA37) -> 0 | AD37: 0 | AE37: 0
B38: (e) | C38: Trusts where any person belonging to 'Promoter and Promoter Group' category is 'trustee', 'beneficiary', or 'author of the trust' | E38: 0 | F38: 0 | G38: 0 | I38: =F38+G38+H38 -> 0 | J38: =(I38/('Table I'!G11-'Table I'!G9)*100) -> 0 | K38: 0 | M38: =K38+L38 -> 0 | N38: =(M38)/'Table I'!K11*100 -> 0 | R38: 0 | S38: =SUM(I38+R38) -> 0 | T38: =S38*100/'Table I'!$Q$11 -> 0 | U38: 0 | V38: 0 | X38: 0 | Y38: 0 | Z38: 0 | AA38: 0 | AB38: 0 | AC38: =SUM(W38+Y38+AA38) -> 0 | AD38: 0 | AE38: 0
B39: (f) | C39: Investor Education and Protection Fund (IEPF) | E39: 0 | F39: 0 | G39: 0 | I39: =F39+G39+H39 -> 0 | J39: =(I39/('Table I'!G11-'Table I'!G9)*100) -> 0 | K39: 0 | M39: =K39+L39 -> 0 | N39: =(M39)/'Table I'!K11*100 -> 0 | R39: 0 | S39: =SUM(I39+R39) -> 0 | T39: =S39*100/'Table I'!$Q$11 -> 0 | U39: 0 | V39: 0 | X39: 0 | Y39: 0 | Z39: 0 | AA39: 0 | AB39: 0 | AC39: =SUM(W39+Y39+AA39) -> 0 | AD39: 0 | AE39: 0
B40: (g) | C40: Individual Shareholders holding Nominal Share Capital Up to 2 Lacs | E40: 2763 | F40: 1532918 | G40: 0 | I40: =F40+G40+H40 -> 1532918 | J40: =(I40/('Table I'!G11-'Table I'!G9)*100) -> 14.193685 | K40: 1532918 | M40: =K40+L40 -> 1532918 | N40: =(M40)/'Table I'!K11*100 -> 14.193685 | R40: 0 | S40: =SUM(I40+R40) -> 1532918 | T40: =S40*100/'Table I'!$Q$11 -> 14.193685 | U40: 0 | V40: 0 | X40: 0 | Y40: 0 | Z40: 0 | AA40: 0 | AB40: 0 | AC40: =SUM(W40+Y40+AA40) -> 0 | AD40: 0 | AE40: 1520918
...

Sheet Table IV
A1: Table IV - Statement showing shareholding pattern of the Non Promoter- Non Public shareholder
B2: Category & Name of the Shareholders | C2: PAN | D2: No. of shareholder | E2: No. of fully paid up equity shares held | F2: Partly paid-up equity shares held | G2: Nos. of shares underlying Depository Receipts | H2: Total no. shares held | I2: Sharehol ding % calculate d as per SCRR, 1957 As a % of (A+B+C2) | J2: Number of Voting Rights held in each class of securities | N2: No. Of Shares Underlying Outstanding convertible securities | O2: No. of Shares Underlying Outstanding Warrants | P2: No. Of Outstanding ESOP Granted | Q2: No. of Shares Underlying Outstanding convertible securities (including Warrants, ESOP etc.) | R2: Total no. of shares on fully diluted basis (including warrants, ESOP Convertible Securities etc.) | S2: Total shareholding , as a % assuming full conversion of convertible securities (as a percentage of diluted share capital) | T2: Number of Locked in shares | V2: Number of Shares pledged or otherwise encumbered | X2: Non Disposal Undertaking | Z2: Other encumbrances if any | AB2: Total Number of Shares encumbered | AD2: Number of equity shares held in dematerializ ed form (Not Applicable)
J3: No of Voting Rights | M3: Total as a % of Total Voting rights | T3: No. | U3: As a % of total Shar es held | V3: No. (Not applicable) | W3: As a % of total share s held (Not applic able) | X3: No. (Not applicable) | Y3: As a % of total share s held (Not applic able) | Z3: No. (Not applicable) | AA3: As a % of total share s held (Not applic able) | AB3: No. (Not applicable) | AC3: As a % of total share s held (Not applic able)
J4: Class X | K4: Class Y | L4: Total
B5: (I) | C5: (II) | D5: (III) | E5: (IV) | F5: (V) | G5: (VI) | H5: (VII)=(IV)+(V)+(VI) | I5: (VIII) | J5: (IX) | Q5: (X) | R5: (XI)=(VII)+(X) | S5: (XII) | T5: (XIII) | V5: (XIV) | X5: (XV) | Z5: (XVI) | AB5: (XVII) | AD5: (XVIII)
A6: C1 | B6: Custodian/DR Holder | D6: 0 | E6: =SUM(E7:E7) -> 0 | F6: =SUM(F7:F7) -> 0 | G6: =SUM(G7:G7) -> 0 | H6: =E6+F6+G6 -> 0 | I6: =(H6/('Table I'!G11-'Table I'!G9)*100) -> 0 | J6: =SUM(J7:J7) -> 0 | K6: =SUM(K7:K7) -> 0 | L6: =J6+K6 -> 0 | M6: =(L6)/'Table I'!K11*100 -> 0 | N6: =SUM(N7:N7) -> 0 | O6: =(N6+H6)/(N8+'Table I'!G11-'Table I'!G9)*100 -> 0 | P6: =SUM(P7:P7) -> 0 | Q6: =SUM(Q7:Q7) -> 0 | R6: =(Q6)/'Table I'!G11*100 -> 0 | S6: =SUM(S7:S7) -> 0 | T6: =(S6)/'Table I'!G11*100 -> 0 | U6: =SUM(U7:U7) -> 0 | V6: =SUM(V7:V7) -> 0 | W6: =SUM(W7:W7) -> 0 | X6: =SUM(X7:X7) -> 0 | Y6: =SUM(Y7:Y7) -> 0 | Z6: =SUM(Z7:Z7) -> 0 | AA6: =SUM(AA7:AA7) -> 0
A7: C2 | B7: Employees Benefit Trust (Under SEBI (Share Based Employee Benefit Regulation 2014) | D7: 0 | H7: =E7+F7+G7 -> 0 | I7: =(H7/('Table I'!G11-'Table I'!G9)*100) -> 0 | L7: =J7+K7 -> 0 | M7: =(L7)/'Table I'!K11*100 -> 0 | O7: =(N7+H7)/(N8+'Table I'!G11-'Table I'!G9)*100 -> 0 | R7: =(Q7)/'Table I'!G11*100 -> 0 | T7: =(S7)/'Table I'!G11*100 -> 0
B8: Total Non Promoter Non Public Shareholding (C)= (C)(1)+(C)(2) | D8: 0 | E8: =E6+E7 -> 0 | F8: =F6+F7 -> 0 | G8: =G6+G7 -> 0 | H8: =H6+H7 -> 0 | I8: =I6+I7 -> 0 | J8: =J6+J7 -> 0 | K8: =K6+K7 -> 0 | L8: =L6+L7 -> 0 | ... AA8: =AA6+AA7 -> 0

Sheet Table V
A1: Table V - Statement Showing Details of Significant beneficial Owners (SBOs)
A2: Sr .No. | B2: Details of the SBO | E2: Details of the Registered Owner | H2: Details of Holding/ exercise of right of the SBO in the reporting company, Whether direct or Indirect | K2: Date of creation / acquisition of significant beneficial interest
B3: ( I ) | E3: ( II ) | H3: ( III ) | K3: ( IV )
B4: Name | C4: PAN/Passport No. in case of a foreign national | D4: Nationality | E4: Name | F4: PAN/Passport No. in case of a foreign national | G4: Nationality | H4: Whether by Virtue of :
A5: 0 | B5: 0 | C5: 0 | D5: 0 | E5: 0 | F5: 0 | G5: 0 | H5: Shares | I5: 0 | J5: % | K5: 0
H6: Voting Righrs | J6: %
H7: Rights of distributable dividend or any other distribution | J7: %
H8: Exercise of control
H9: Exercise of significant influence
A17: * In case the nature of the holding/ exercise of the right of a SBO falls under multiple categories specified under (a) to (e) under Column III, multiple rows for the same SBO shall be inserted ....accordingly for each of the categories.
A18: * This column shall have the details as specified by the listed entity under Form No. BEN-2 as submitted to the Registrar.
A20: $ PAN / Passport number not to be disclosed on the website of the Stock Exchange

Sheet Table VI
A1: Annexure B
A2: Table VI - Statement showing foreign ownership limits
B3: Board approved limits | C3: Limits utilized
A4: As on shareholding date
A5: As on the end of previous 1st quarter
A6: As on the end of previous 2nd quarter
A7: As on the end of previous 3rd quarter
A8: As on the end of previous 4th quarter

Sheet Bodies_Corporate
A1: (l) | B1: Bodies Corporates
A2: Sr.No | B2: Pan Number | C2: Name of Shareholders | D2: FP -Shares | E2: PP- Shares | F2: Total Shares | G2: %age | H2: Nom.Value | I2: Debentures | J2: Code | K2: Category
A3: 1 | B3: AACCO0265G | C3: RAASTA CONSULTING | D3: 17200 | E3: 0 | F3: 17200 | G3: 0.1593 | H3: 172000 | I3: 0 | J3: B4L | K3: LTD - BODIES CORPORATE-DOMESTIC
A4: 2 | B4: AAIFV4876H | C4: VOLATILITY CONCEPTS ADVISOR AND INVESTOR LLP | D4: 8000 | E4: 0 | F4: 8000 | G4: 0.0741 | H4: 80000 | I4: 0 | J4: B4L | K4: LTD - BODIES CORPORATE -LIMITED LIABLITY PARTNERSHIP
A5: 3 | B5: AAECS6219A | C5: SHUBH VINAYAK TRADING & INVESTMENTS PRIVATE LIMITED | D5: 5000 | E5: 0 | F5: 5000 | G5: 0.0463 | H5: 50000 | I5: 0 | J5: B4L | K5: LTD - BODIES CORPORATE-DOMESTIC
A6: 4 | B6: AAMFB5306N | C6: BLACKGOLD MEDIA ENTERTAINMENT LLP | D6: 4227 | E6: 0 | F6: 4227 | G6: 0.0391 | H6: 42270 | I6: 0 | J6: B4L | K6: LTD - BODIES CORPORATE -LIMITED LIABLITY PARTNERSHIP
A7: 5 | B7: AAEFL9743P | C7: LIVINGROOM FURNITURES LLP | D7: 3645 | E7: 0 | F7: 3645 | G7: 0.0338 | H7: 36450 | I7: 0 | J7: B4L | K7: LTD - BODIES CORPORATE -LIMITED LIABLITY PARTNERSHIP
A8: 6 | B8: AAACN8070G | C8: NNM SECURITIES | D8: 2760 | E8: 0 | F8: 2760 | G8: 0.0256 | H8: 27600 | I8: 0 | J8: B4L | K8: LTD - BODIES CORPORATE -CM/TM PROPRIETORY ACCOUNT
A9: 7 | B9: AABCZ1608B | C9: ZENITH PORTFOLIO PRIVATE LIMITED | D9: 2650 | E9: 0 | F9: 2650 | G9: 0.0245 | H9: 26500 | I9: 0 | J9: B4L | K9: LTD - BODIES CORPORATE-DOMESTIC
A10: 8 | B10: AAACQ0053A | C10: QUANTUM GLOBAL SECURITIES LTD | D10: 2015 | E10: 0 | F10: 2015 | G10: 0.0187 | H10: 20150 | I10: 0 | J10: B4L | K10: LTD - BODIES CORPORATE - CM/TM COLLATORAL ACCOUNT
A11: 9 | B11: Not Available | C11: FRESHLIME MEDIA PRODUCTION LLP | D11: 1500 | E11: 0 | F11: 1500 | G11: 0.0139 | H11: 15000 | I11: 0 | J11: B4L | K11: LTD - BODIES CORPORATE DOMESTIC
A12: 10 | B12: ABMFM7623E | C12: MAXIMO PICTURES LLP | D12: 1200 | E12: 0 | F12: 1200 | G12: 0.0111 | H12: 12000 | I12: 0 | J12: B4L | K12: LTD - BODIES CORPORATE -LIMITED LIABLITY PARTNERSHIP
A13: 11 | B13: AAJCA3398R | C13: APEX TREND GAZERS PRIVATE LIMITED | D13: 200 | E13: 0 | F13: 200 | G13: 0.0019 | H13: 2000 | I13: 0 | J13: B4L | K13: LTD - BODIES CORPORATE-DOMESTIC
A14: 12 | B14: AADCJ0092M | C14: JITNEY INVESTMENTS PRIVATE LTD | D14: 60 | E14: 0 | F14: 60 | G14: 0.0006 | H14: 600 | I14: 0 | J14: B4L | K14: LTD - BODIES CORPORATE-DOMESTIC
... A17: 15 | B17: AADCR5197F | C17: RANGOLI TECHTRADERS PRIVATE LIMITED | D17: 1 | E17: 0 | F17: 1 | G17: 0 | H17: 10 | I17: 0 | J17: B4L | K17: LTD - BODIES CORPORATE -CM/TM PROPRIETORY ACCOUNT
B18: Total | F18: 48460 | G18: 0.4487 | H18: 484600 | I18: 0

Sheet NRI
A1: (i) | B1: Non Resident Indian
A2: Sr.No | B2: Pan Number | C2: Name of Shareholders | D2: FP -Shares | E2: PP- Shares | F2: Total Shares | G2: %age | H2: Nom.Value | I2: Debentures | J2: Code | K2: Category
A3: 1 | B3: BHIPS4126B | C3: CHRISTOPHER JOSEPH SALDANA | D3: 15500 | E3: 0 | F3: 15500 | G3: 0.1435 | H3: 155000 | I3: 0 | J3: B4I | K3: NRI - NRI REPARTIABLE
A4: 2 | B4: AKTPD2061K | C4: VISHAL LAXMICHAND DEDHIA | D4: 13521 | E4: 0 | F4: 13521 | G4: 0.1252 | H4: 135210 | I4: 0 | J4: B4I | K4: NRI - NRI REPARTIABLE
A5: 3 | B5: BWDPS4145Q | C5: ANKIT ANIL SHUKLA | D5: 10000 | E5: 0 | F5: 10000 | G5: 0.0926 | H5: 100000 | I5: 0 | J5: B4I | K5: NRI - NRI REPARTIABLE
A6: 4 | B6: ABLPI2284E | C6: HARI NADHA REDDY IRAGAM REDDY | D6: 4538 | E6: 0 | F6: 4538 | G6: 0.042 | H6: 45380 | I6: 0 | J6: B4I | K6: NRI - NRI REPARTIABLE
A7: 5 | B7: BEMPP6862E | C7: GHANSHYAM SHALIK PATIL | D7: 4000 | E7: 0 | F7: 4000 | G7: 0.037 | H7: 40000 | I7: 0 | J7: B4I | K7: NRN - NRI NON-REPAT NEGATIVE NOMINATION
A8: 6 | B8: APBPJ9741D | C8: FINOJ JOSEPH | D8: 3000 | E8: 0 | F8: 3000 | G8: 0.0278 | H8: 30000 | I8: 0 | J8: B4I | K8: NRN - NRI NON REPARTIABLE
A9: 7 | B9: EAJPP0614J | C9: KUSHAL VRAJLAL PARMAR | D9: 2397 | E9: 0 | F9: 2397 | G9: 0.0222 | H9: 23970 | I9: 0 | J9: B4I | K9: NRN - NRI NON REPARTIABLE
A10: 8 | B10: AAYPL9527H | C10: ANKUR PRAKASH LALAJI | D10: 2300 | E10: 0 | F10: 2300 | G10: 0.0213 | H10: 23000 | I10: 0 | J10: B4I | K10: NRI - NRI REPARTIABLE
A11: 9 | B11: ALIPD8431H | C11: MELWYN RAYMOND DSOUZA | D11: 2000 | E11: 0 | F11: 2000 | G11: 0.0185 | H11: 20000 | I11: 0 | J11: B4I | K11: NRI - NRI REPARTIABLE
A12: 10 | B12: AEFPG0914G | C12: ALOY KUMAR GHOSAL | D12: 2000 | E12: 0 | F12: 2000 | G12: 0.0185 | H12: 20000 | I12: 0 | J12: B4I | K12: NRN - NRI NON REPARTIABLE
A13: 11 | B13: BZZPS9237G | C13: MANOJ KUMAR SINGH | D13: 1500 | E13: 0 | F13: 1500 | G13: 0.0139 | H13: 15000 | I13: 0 | J13: B4I | K13: NRN - NRI NON REPARTIABLE
A14: 12 | B14: ACJPD6237D | C14: CHAITAN DEV DAS | D14: 1500 | E14: 0 | F14: 1500 | G14: 0.0139 | H14: 15000 | I14: 0 | J14: B4I | K14: NRI - NRI REPARTIABLE
... A29: 27 | B29: AIUPA3110D | C29: SOHAIL AHMED ANSARI | D29: 1 | E29: 0 | F29: 1 | G29: 0 | H29: 10 | I29: 0 | J29: B4I | K29: NRN - NRI NON REPARTIABLE
B30: Total | F30: 66468 | G30: 0.6154 | H30: 664680 | I30: 0

Sheet HUF
A1: (m3) | B1: HUF
A2: Sr.No | B2: Pan Number | C2: Name of Shareholders | D2: FP -Shares | E2: PP- Shares | F2: Total Shares | G2: %age | H2: Nom.Value | I2: Debentures | J2: Code | K2: Category
A3: 1 | B3: AAJHG1223L | C3: GAURAV R GANDHI HUF | D3: 40010 | E3: 0 | F3: 40010 | G3: 0.3705 | H3: 400100 | I3: 0 | J3: B4M3 | K3: HUF - HUF /APOS
A4: 2 | B4: AARHS8373R | C4: SANDEEP JAIN & SONS HUF . | D4: 15000 | E4: 0 | F4: 15000 | G4: 0.1389 | H4: 150000 | I4: 0 | J4: B4M3 | K4: HUF - RESIDENT HUF /APOS
A5: 3 | B5: AAJHA5424M | C5: ASHOK KUMAR GUPTA HUF | D5: 15000 | E5: 0 | F5: 15000 | G5: 0.1389 | H5: 150000 | I5: 0 | J5: B4M3 | K5: HUF - HUF /APOS
A6: 4 | B6: AAGHJ2929B | C6: JATIN GOVINDBHAI NISAR (HUF) . | D6: 10300 | E6: 0 | F6: 10300 | G6: 0.0954 | H6: 103000 | I6: 0 | J6: B4M3 | K6: HUF - RESIDENT HUF /APOS
A7: 5 | B7: AARHA9767K | C7: AMIT MAMODIA | D7: 9505 | E7: 0 | F7: 9505 | G7: 0.088 | H7: 95050 | I7: 0 | J7: B4M3 | K7: HUF - RESIDENT HUF /APOS
A8: 6 | B8: AADHD7246J | C8: DWARKA DASS | D8: 9200 | E8: 0 | F8: 9200 | G8: 0.0852 | H8: 92000 | I8: 0 | J8: B4M3 | K8: HUF - HUF /APOS
A9: 7 | B9: AADHC4986Q | C9: CHIRAG LALJI SHAH HUF . | D9: 9000 | E9: 0 | F9: 9000 | G9: 0.0833 | H9: 90000 | I9: 0 | J9: B4M3 | K9: HUF - RESIDENT HUF /APOS
A10: 8 | B10: AAOHS8631K | C10: SONAL AGARWAL HUF . | D10: 6538 | E10: 0 | F10: 6538 | G10: 0.0605 | H10: 65380 | I10: 0 | J10: B4M3 | K10: HUF - RESIDENT HUF /APOS
A11: 9 | B11: AABHR1476C | C11: RAKESH MITTAL HUF | D11: 3500 | E11: 0 | F11: 3500 | G11: 0.0324 | H11: 35000 | I11: 0 | J11: B4M3 | K11: HUF - HUF /APOS
A12: 10 | B12: AAPHA0606P | C12: ASHISH GOEL HUF | D12: 3000 | E12: 0 | F12: 3000 | G12: 0.0278 | H12: 30000 | I12: 0 | J12: B4M3 | K12: HUF - HUF /APOS
A13: 11 | B13: AAIHM1778B | C13: MAHESH KUMAR BAJAJ HUF | D13: 2800 | E13: 0 | F13: 2800 | G13: 0.0259 | H13: 28000 | I13: 0 | J13: B4M3 | K13: HUF - HUF /APOS
A14: 12 | B14: AAOHS6322R | C14: SANJAY CHOWDHARY HUF | D14: 2000 | E14: 0 | F14: 2000 | G14: 0.0185 | H14: 20000 | I14: 0 | J14: B4M3 | K14: HUF - HUF /APOS
... A85: 83 | B85: AAKHB7096P | C85: BHUWAN CHANDER HUF | D85: 1 | E85: 0 | F85: 1 | G85: 0 | H85: 10 | I85: 0 | J85: B4M3 | K85: HUF - HUF /APOS
B86: Total | F86: 148938 | G86: 1.3791 | H86: 1489380 | I86: 0

Sheet Public
A1: Individual Shareholders Holding Nominal Share Captial Above Rs. 2 Lac
A2: Sr.No | B2: Pan Number | C2: Name of Shareholders | D2: FP -Shares | E2: PP- Shares | F2: Total Shares | G2: %age | H2: Nom.Value | I2: Debentures | J2: Code | K2: Category
A3: 1 | B3: BCHPS7621F | C3: RINKESH RAJENDRA SHAH | D3: 575758 | E3: 0 | F3: 575758 | G3: 5.3311 | H3: 5757580 | I3: 0 | J3: B4G | K3: PUB - RESIDENT INDIAN
A4: 2 | B4: AIWPJ3072D | C4: MOHD JAFAR | D4: 535982 | E4: 0 | F4: 535982 | G4: 4.9628 | H4: 5359820 | I4: 0 | J4: B4G | K4: PUB - RESIDENT INDIVIDUAL-NEGATIVE NOMINATIONS
A5: 3 | B5: AOXPG9421J | C5: ABHISHEK GUPTA | D5: 275486 | E5: 0 | F5: 275486 | G5: 2.5508 | H5: 2754860 | I5: 0 | J5: B4G | K5: PUB - RESIDENT INDIAN
A6: 4 | B6: AACPD8641G | C6: RATANLAL MURLIDHAR DALMIA | D6: 190000 | E6: 0 | F6: 190000 | G6: 1.7593 | H6: 1900000 | I6: 0 | J6: B4G | K6: PUB - RESIDENT ORDINARY
A7: 5 | B7: AGAPB6742Q | C7: HIMMAT VINODCHANDRA BHATT | D7: 150000 | E7: 0 | F7: 150000 | G7: 1.3889 | H7: 1500000 | I7: 0 | J7: B4G | K7: PUB - RESIDENT ORDINARY
A8: 6 | B8: AAQPS1939J | C8: SHAUNAK JAGDISH SHAH | D8: 96866 | E8: 0 | F8: 96866 | G8: 0.8969 | H8: 968660 | I8: 0 | J8: B4G | K8: PUB - RESIDENT INDIAN
A9: 7 | B9: BDTPP4400J | C9: JAGDISH SHREERAM PANDEY | D9: 85000 | E9: 0 | F9: 85000 | G9: 0.787 | H9: 850000 | I9: 0 | J9: B4G | K9: PUB - RESIDENT INDIVIDUAL-NEGATIVE NOMINATIONS
A10: 8 | B10: BBBPP4213K | C10: VIREN SANJAY PUNJABI | D10: 81270 | E10: 0 | F10: 81270 | G10: 0.7525 | H10: 812700 | I10: 0 | J10: B4G | K10: PUB - RESIDENT ORDINARY
A11: 9 | B11: ABJPG5174D | C11: ATUL GOYAL | D11: 78050 | E11: 0 | F11: 78050 | G11: 0.7227 | H11: 780500 | I11: 0 | J11: B4G | K11: PUB - RESIDENT INDIVIDUAL-NEGATIVE NOMINATIONS
A12: 10 | B12: AFQPJ8682Q | C12: SANDEEP JAIN | D12: 60000 | E12: 0 | F12: 60000 | G12: 0.5556 | H12: 600000 | I12: 0 | J12: B4G | K12: PUB - RESIDENT ORDINARY
A13: 11 | B13: ABOPG0619G | C13: KALPANA GOYAL | D13: 59411 | E13: 0 | F13: 59411 | G13: 0.5501 | H13: 594110 | I13: 0 | J13: B4G | K13: PUB - RESIDENT INDIVIDUAL-NEGATIVE NOMINATIONS
A14: 12 | B14: BDUPG2012E | C14: ABHISHEK GOYAL | D14: 50531 | E14: 0 | F14: 50531 | G14: 0.4679 | H14: 505310 | I14: 0 | J14: B4G | K14: PUB - RESIDENT INDIVIDUAL-NEGATIVE NOMINATIONS
... A28: 26 | B28: AEBPG6662H | C28: ANIL GOEL | D28: 20358 | E28: 0 | F28: 20358 | G28: 0.1885 | H28: 203580 | I28: 0 | J28: B4G | K28: PUB - RESIDENT INDIAN
B29: Total | F29: 2701501 | G29: 25.0139 | H29: 27015010 | I29: 0

Sheet Firms
A1: (m5) | B1: Firms
A2: Sr.No | B2: Pan Number | C2: Name of Shareholders | D2: FP -Shares | E2: PP- Shares | F2: Total Shares | G2: %age | H2: Nom.Value | I2: Debentures | J2: Code | K2: Category
A3: 1 | B3: ADEFS4138C | C3: SANDIP RAVINDRANATH PARAB | D3: 10500 | E3: 0 | F3: 10500 | G3: 0.0972 | H3: 105000 | I3: 0 | J3: B4M5 | K3: PUB - RESIDENT INDIAN
A4: 2 | B4: AANFD1262E | C4: ASHISH SUMATILAL SHAH | D4: 4000 | E4: 0 | F4: 4000 | G4: 0.037 | H4: 40000 | I4: 0 | J4: B4M5 | K4: PUB - RESIDENT INDIVIDUAL-NEGATIVE NOMINATIONS
A5: 3 | B5: AARFK3454B | C5: SARIKA JAYARAM SHETTY | D5: 3100 | E5: 0 | F5: 3100 | G5: 0.0287 | H5: 31000 | I5: 0 | J5: B4M5 | K5: PUB - RESIDENT INDIVIDUAL-NEGATIVE NOMINATIONS
A6: 4 | B6: ADGFS1964C | C6: ARCHANA ASHISHKUMAR SHAH | D6: 2890 | E6: 0 | F6: 2890 | G6: 0.0268 | H6: 28900 | I6: 0 | J6: B4M5 | K6: PUB - RESIDENT INDIVIDUAL-NEGATIVE NOMINATIONS
A7: 5 | B7: ACXFS7760C | C7: ABHINAV SURI | D7: 500 | E7: 0 | F7: 500 | G7: 0.0046 | H7: 5000 | I7: 0 | J7: B4M5 | K7: PUB - RESIDENT INDIVIDUAL-NEGATIVE NOMINATIONS
A8: 6 | B8: ABHFS9341L | C8: ANAND GOPIRAM JARIWAL | D8: 1 | E8: 0 | F8: 1 | G8: 0 | H8: 10 | I8: 0 | J8: B4M5 | K8: PUB - RESIDENT INDIVIDUAL-NEGATIVE NOMINATIONS
B9: Total | F9: 20991 | G9: 0.1944 | H9: 209910 | I9: 0

Sheet Distribution of Holding
A1: KRISHNA VENTURES LIMITED
A3: DISTRIBUTION OF 10800000 EQUITY SHARE CAPITAL AS ON :30/09/2026
A4: PAN CONSOLIDATION
A5: Share or Debenture holding Nominal Value | B5: Number of Shareholders | C5: % to Total Numbers | D5: Share or Debenture holding Amount | E5: % to Total Amount
A6: (Rs.) | D6: (Rs.)
A7: 1 | B7: 2 | C7: 3 | D7: 4 | E7: 5
A8: Up To 5,000 | B8: 2356 | C8: 80.57 | D8: 1966160 | E8: 1.82
A9: 5001 To 10,000 | B9: 186 | C9: 6.36 | D9: 1512750 | E9: 1.4
A10: 10001 To 20,000 | B10: 134 | C10: 4.58 | D10: 2011670 | E10: 1.86
A11: 20001 To 30,000 | B11: 69 | C11: 2.36 | D11: 1750830 | E11: 1.62
A12: 30001 To 40,000 | B12: 41 | C12: 1.4 | D12: 1477930 | E12: 1.37
A13: 40001 To 50,000 | B13: 27 | C13: 0.92 | D13: 1261440 | E13: 1.17
A14: 50001 To 1,00,000 | B14: 48 | C14: 1.64 | D14: 3495470 | E14: 3.24
A15: 1,00,000 and Above | B15: 63 | C15: 2.15 | D15: 94523750 | E15: 87.52
A16: Total | B16: 2924 | C16: 100 | D16: 108000000 | E16: 100
A21: PAN CONSOLIDATION
A22: No. of Shares or Debentures | B22: Number of Shareholders | C22: % to Total Numbers | D22: Share or Debenture Held | E22: % to Holding
A23: 1 | B23: 2 | C23: 3 | D23: 4 | E23: 5
A24: Up To 500 | B24: 2356 | C24: 80.57 | D24: 196616 | E24: 1.82
A25: 501 To 1000 | B25: 186 | C25: 6.36 | D25: 151275 | E25: 1.4
A26: 1001 To 2000 | B26: 134 | C26: 4.58 | D26: 201167 | E26: 1.86
A27: 2001 To 3000 | B27: 69 | C27: 2.36 | D27: 175083 | E27: 1.62
A28: 3001 To 4000 | B28: 41 | C28: 1.4 | D28: 147793 | E28: 1.37
A29: 4001 To 5000 | B29: 27 | C29: 0.92 | D29: 126144 | E29: 1.17
A30: 5001 To 10000 | B30: 48 | C30: 1.64 | D30: 349547 | E30: 3.24
A31: 10000 and Above | B31: 63 | C31: 2.15 | D31: 9452375 | E31: 87.52
A32: Total | B32: 2924 | C32: 100 | D32: 10800000 | E32: 100
A37: WITHOUT PAN CONSOLIDATION
A38: Share or Debenture holding Nominal Value | B38: Number of Shareholders | C38: % to Total Numbers | D38: Share or Debenture holding Amount | E38: % to Total Amount
A39: (Rs.) | D39: (Rs.)
A40: 1 | B40: 2 | C40: 3 | D40: 4 | E40: 5
A41: Up To 5,000 | B41: 2398 | C41: 80.17 | D41: 1993460 | E41: 1.85
A42: 5001 To 10,000 | B42: 195 | C42: 6.52 | D42: 1596020 | E42: 1.48
A43: 10001 To 20,000 | B43: 148 | C43: 4.95 | D43: 2254250 | E43: 2.09
A44: 20001 To 30,000 | B44: 73 | C44: 2.44 | D44: 1838110 | E44: 1.7
A45: 30001 To 40,000 | B45: 35 | C45: 1.17 | D45: 1269280 | E45: 1.18
A46: 40001 To 50,000 | B46: 24 | C46: 0.8 | D46: 1122180 | E46: 1.04
A47: 50001 To 1,00,000 | B47: 50 | C47: 1.67 | D47: 3678140 | E47: 3.41
A48: 1,00,000 and Above | B48: 68 | C48: 2.27 | D48: 94248560 | E48: 87.27
A49: Total | B49: 2991 | C49: 100 | D49: 108000000 | E49: 100
...

Sheet Pldgshrs
A1: (l) | B1: Pledged Shares
A2: Sr.No | B2: Pan Number | C2: Name of Shareholders | D2: FP -Shares | E2: PP- Shares | F2: Total Shares | G2: %age | H2: Nom.Value | I2: Debentures | J2: Pledged Shares | K2: Folio No/DPID-Clientid
A3: 1 | B3: AACPU3368B | C3: KUMUD OMPRAKASH UPADHYAY | D3: 6000 | E3: 0 | F3: 6000 | G3: 0.0556 | H3: 60000 | I3: 0 | J3: 6000 | K3: 1202810000124019
A4: 2 | B4: AYQPS0408J | C4: SHAH DHAWAL JAYANTILAL . | D4: 6000 | E4: 0 | F4: 6000 | G4: 0.0556 | H4: 60000 | I4: 0 | J4: 5000 | K4: 1203230016207496
A5: 3 | B5: AAFPS8769P | C5: RAJUL SANJAY SHAH | D5: 5000 | E5: 0 | F5: 5000 | G5: 0.0463 | H5: 50000 | I5: 0 | J5: 5000 | K5: 1202660000000531
A6: 4 | B6: AABCZ1608B | C6: ZENITH PORTFOLIO PRIVATE LIMITED | D6: 2650 | E6: 0 | F6: 2650 | G6: 0.0245 | H6: 26500 | I6: 0 | J6: 2650 | K6: IN30051388748341
A7: 5 | B7: AURPK8095L | C7: SALIM KHAN | D7: 2500 | E7: 0 | F7: 2500 | G7: 0.0231 | H7: 25000 | I7: 0 | J7: 2500 | K7: 1202060002448419
A8: 6 | B8: CDFPP2994E | C8: PRATIBHA GIRISH PATIL | D8: 2488 | E8: 0 | F8: 2488 | G8: 0.023 | H8: 24880 | I8: 0 | J8: 2000 | K8: 1202060002193742
A9: 7 | B9: AEQPS3182P | C9: SHAILESH SHEKAR SHETTY | D9: 2000 | E9: 0 | F9: 2000 | G9: 0.0185 | H9: 20000 | I9: 0 | J9: 2000 | K9: 1202060001780486
A10: 8 | B10: AKAPR7160G | C10: SAVITA RATHI | D10: 1094 | E10: 0 | F10: 1094 | G10: 0.0101 | H10: 10940 | I10: 0 | J10: 1094 | K10: 1201910103152152
A11: 9 | B11: DRMPS4729A | C11: MAYANK M SHETHIA | D11: 1062 | E11: 0 | F11: 1062 | G11: 0.0098 | H11: 10620 | I11: 0 | J11: 1000 | K11: 1202700000580034
A12: 10 | B12: ABYPM2285L | C12: AMIT MAMODIA | D12: 3615 | E12: 0 | F12: 3615 | G12: 0.0335 | H12: 36150 | I12: 0 | J12: 1000 | K12: IN30223610844086
A13: 11 | B13: ABFHS7366R | C13: SWAPNESH BURAD HUF | D13: 1000 | E13: 0 | F13: 1000 | G13: 0.0093 | H13: 10000 | I13: 0 | J13: 1000 | K13: IN30096611286071
A14: 12 | B14: AXFPK0205M | C14: APARNA RAHUL KELKAR | D14: 2826 | E14: 0 | F14: 2826 | G14: 0.0262 | H14: 28260 | I14: 0 | J14: 981 | K14: IN30051385664981
... A32: 30 | B32: ABCPD9177C | C32: DILIPKUMAR CHAMANLAL DOSHI | D32: 1 | E32: 0 | F32: 1 | G32: 0 | H32: 10 | I32: 0 | J32: 1 | K32: 1203230001605891
B33: Total | F33: 71359 | G33: 0.6607 | H33: 713590 | I33: 0 | J33: 35456
